BEGIN:VCALENDAR
VERSION:2.0
PRODID:icalendar-ruby
CALSCALE:GREGORIAN
METHOD:PUBLISH
BEGIN:VEVENT
DTSTAMP:20260424T043032Z
UID:5-1489599@hiramfirst.tithelysetup5.com
DTSTART:20261011T150000Z
DTEND:20261011T160000Z
CLASS:PUBLIC
CREATED:20260423T231400
DESCRIPTION:Sunday Worship
LAST-MODIFIED:20260423T231400
LOCATION:
SUMMARY:Sunday Worship
URL;VALUE=URI:https://hiramfirst.tithelysetup5.com/events/sunday-worship/20
 26-10-11
END:VEVENT
END:VCALENDAR
