BEGIN:VCALENDAR
VERSION:2.0
PRODID:icalendar-ruby
CALSCALE:GREGORIAN
METHOD:PUBLISH
BEGIN:VEVENT
DTSTAMP:20260424T013342Z
UID:5-1489218@hiramfirst.tithelysetup5.com
DTSTART:20260927T150000Z
DTEND:20260927T160000Z
CLASS:PUBLIC
CREATED:20260423T201922
DESCRIPTION:Sunday Worship
LAST-MODIFIED:20260423T201922
LOCATION:
SUMMARY:Sunday Worship
URL;VALUE=URI:https://hiramfirst.tithelysetup5.com/events/sunday-worship/20
 26-09-27
END:VEVENT
END:VCALENDAR
