BEGIN:VCALENDAR
VERSION:2.0
PRODID:icalendar-ruby
CALSCALE:GREGORIAN
METHOD:PUBLISH
BEGIN:VEVENT
DTSTAMP:20260424T000329Z
UID:5-1488838@hiramfirst.tithelysetup5.com
DTSTART:20260920T150000Z
DTEND:20260920T160000Z
CLASS:PUBLIC
CREATED:20260423T172611
DESCRIPTION:Sunday Worship
LAST-MODIFIED:20260423T172611
LOCATION:
SUMMARY:Sunday Worship
URL;VALUE=URI:https://hiramfirst.tithelysetup5.com/events/sunday-worship/20
 26-09-20
END:VEVENT
END:VCALENDAR
